BEGIN:VCALENDAR
VERSION:2.0
PRODID:-//Superdiva - ECPv6.15.11//NONSGML v1.0//EN
CALSCALE:GREGORIAN
METHOD:PUBLISH
X-ORIGINAL-URL:https://www.superdiva.net
X-WR-CALDESC:Veranstaltungen für Superdiva
REFRESH-INTERVAL;VALUE=DURATION:PT1H
X-Robots-Tag:noindex
X-PUBLISHED-TTL:PT1H
BEGIN:VTIMEZONE
TZID:Europe/Berlin
BEGIN:DAYLIGHT
TZOFFSETFROM:+0100
TZOFFSETTO:+0200
TZNAME:CEST
DTSTART:20160327T010000
END:DAYLIGHT
BEGIN:STANDARD
TZOFFSETFROM:+0200
TZOFFSETTO:+0100
TZNAME:CET
DTSTART:20161030T010000
END:STANDARD
BEGIN:DAYLIGHT
TZOFFSETFROM:+0100
TZOFFSETTO:+0200
TZNAME:CEST
DTSTART:20170326T010000
END:DAYLIGHT
BEGIN:STANDARD
TZOFFSETFROM:+0200
TZOFFSETTO:+0100
TZNAME:CET
DTSTART:20171029T010000
END:STANDARD
BEGIN:DAYLIGHT
TZOFFSETFROM:+0100
TZOFFSETTO:+0200
TZNAME:CEST
DTSTART:20180325T010000
END:DAYLIGHT
BEGIN:STANDARD
TZOFFSETFROM:+0200
TZOFFSETTO:+0100
TZNAME:CET
DTSTART:20181028T010000
END:STANDARD
END:VTIMEZONE
BEGIN:VEVENT
DTSTART;TZID=Europe/Berlin:20170702T193000
DTEND;TZID=Europe/Berlin:20170702T203000
DTSTAMP:20260421T182954
CREATED:20170624T225215Z
LAST-MODIFIED:20170625T111518Z
UID:884-1499023800-1499027400@www.superdiva.net
SUMMARY:Support für Selig beim 43. Wochenende an der Jade 2017
DESCRIPTION:02.07.2017\, 19:30 – 20:30 Uhr\nSuperdiva\nIndie-Rock auf der Südstrandbühne | WadJ \nDas Trio Superdiva besteht aus Robert Rausch (Icy Roads\, Turboflowers\, Polarstern)\, Olaf Brockmann (Icy Roads\, Zero Zero) und Arvid Uzolas (Mosia Bizz\, Crow). \nSuperdiva haben sich Ende 2013 gegründet und spielen Indie-Rock mit deutschen Texten. Dabei haben Brockmann und Rausch – beide Absolventen des Popkurs (Wir Sind Helden\, Revolverheld) – zusammen mit Uzolas ihren eigenen Stil kreiert und zu einer kraftvollen Melange weiterentwickelt. \nIhre erste EP „Traumkonto“ haben Superdiva im Jahr 2014 im Studio-Nord Bremen (Wingenfelder\, Kunze\, Rhonda) zusammen mit Oliver Sroweleit und im Eigenvertrieb veröffentlicht. Ihre zweite EP „Tanz“ hat mit dem jungen Produzentenduo Heym/Bischoff eine neue\, frische Ausrichtung\, und ist seit Anfang 2017 erhältlich! \n Teilen mit:Facebook
URL:https://www.superdiva.net/event/43-wochenende-an-der-jade-2017/
LOCATION:Großer Hafen\, Großer Hafen\, Wilhelmshaven\, 26382\, Deutschland
CATEGORIES:Konzert
END:VEVENT
BEGIN:VEVENT
DTSTART;TZID=Europe/Berlin:20170719T220000
DTEND;TZID=Europe/Berlin:20170719T233000
DTSTAMP:20260421T182954
CREATED:20170625T110758Z
LAST-MODIFIED:20170625T110910Z
UID:900-1500501600-1500507000@www.superdiva.net
SUMMARY:Kulturzentrum Pumpwerk - Mittwochs im Club
DESCRIPTION:Teilen mit:Facebook
URL:https://www.superdiva.net/event/kulturzentrum-pumpwerk-mittwochs-im-club-superdiva/
LOCATION:Kulturzentrum Pumpwerk\, Banter Deich 1a\, Wilhelmshaven\, 26382\, Deutschland
END:VEVENT
END:VCALENDAR